BEGIN:VCALENDAR
VERSION:2.0
PRODID:-//hacksw/handcal//NONSGML v1.0//EN
BEGIN:VEVENT
UID:17011
DTSTART;VALUE=DATE:20230718
URL;VALUE=URI:ohschonhell.at/?page_id=37833
SUMMARY:das techno cafe
LOCATION:Volksgarten Technocafé
END:VEVENT
END:VCALENDAR


