BEGIN:VCALENDAR
VERSION:2.0
PRODID:-//hacksw/handcal//NONSGML v1.0//EN
BEGIN:VEVENT
UID:17013
DTSTART;VALUE=DATE:20230714
URL;VALUE=URI:ohschonhell.at/?page_id=37837
SUMMARY:SORRY MOM ? PORTO POLLO
LOCATION:PORTO POLLO
END:VEVENT
END:VCALENDAR


