BEGIN:VCALENDAR
VERSION:2.0
PRODID:-//hacksw/handcal//NONSGML v1.0//EN
BEGIN:VEVENT
UID:17014
DTSTART;VALUE=DATE:20230727
URL;VALUE=URI:ohschonhell.at/?page_id=37839
SUMMARY:Cosmic Connection vol.4
LOCATION:Kramladen
END:VEVENT
END:VCALENDAR


