BEGIN:VCALENDAR
VERSION:2.0
PRODID:-//hacksw/handcal//NONSGML v1.0//EN
BEGIN:VEVENT
UID:17021
DTSTART;VALUE=DATE:20230716
URL;VALUE=URI:ohschonhell.at/?page_id=37855
SUMMARY:AFTERHOUR mit TICHO & M.E.F.
LOCATION:Black Market
END:VEVENT
END:VCALENDAR


