BEGIN:VCALENDAR
VERSION:2.0
PRODID:-//hacksw/handcal//NONSGML v1.0//EN
BEGIN:VEVENT
UID:17022
DTSTART;VALUE=DATE:20230715
URL;VALUE=URI:ohschonhell.at/?page_id=37858
SUMMARY:RUI DE JANEIRO\, GEHLEKTEK\, KIPPPUNKT
LOCATION:Black Market
END:VEVENT
END:VCALENDAR


