BEGIN:VCALENDAR
VERSION:2.0
PRODID:-//hacksw/handcal//NONSGML v1.0//EN
BEGIN:VEVENT
UID:17023
DTSTART;VALUE=DATE:20230715
URL;VALUE=URI:ohschonhell.at/?page_id=37860
SUMMARY:SUMMER FLOOR - Toni's Birthday Special
LOCATION:PORTO POLLO
END:VEVENT
END:VCALENDAR


