BEGIN:VCALENDAR
VERSION:2.0
PRODID:-//hacksw/handcal//NONSGML v1.0//EN
BEGIN:VEVENT
UID:17029
DTSTART;VALUE=DATE:20230722
URL;VALUE=URI:ohschonhell.at/?page_id=37874
SUMMARY:AFTERHOUR mit KOLAR & DJ BÖHM
LOCATION:Black Market
END:VEVENT
END:VCALENDAR


