BEGIN:VCALENDAR
VERSION:2.0
PRODID:-//hacksw/handcal//NONSGML v1.0//EN
BEGIN:VEVENT
UID:17030
DTSTART;VALUE=DATE:20230723
URL;VALUE=URI:ohschonhell.at/?page_id=37877
SUMMARY:AFTERHOUR mit WIENER SCHLAWINER
LOCATION:Black Market
END:VEVENT
END:VCALENDAR


