BEGIN:VCALENDAR
VERSION:2.0
PRODID:-//hacksw/handcal//NONSGML v1.0//EN
BEGIN:VEVENT
UID:17063
DTSTART;VALUE=DATE:20230728
URL;VALUE=URI:ohschonhell.at/?page_id=37949
SUMMARY:AVANT GARDEN
LOCATION:Gönner Bar
END:VEVENT
END:VCALENDAR


