BEGIN:VCALENDAR
VERSION:2.0
PRODID:-//hacksw/handcal//NONSGML v1.0//EN
BEGIN:VEVENT
UID:17075
DTSTART;VALUE=DATE:20230811
URL;VALUE=URI:ohschonhell.at/?page_id=37974
SUMMARY:Drumworks presents Tassone\, 7th Sense\, Prime Bassound\, M:Pathy & Slippy Slills @ Black Market
LOCATION:Black Market
END:VEVENT
END:VCALENDAR


