BEGIN:VCALENDAR
VERSION:2.0
PRODID:-//hacksw/handcal//NONSGML v1.0//EN
BEGIN:VEVENT
UID:17076
DTSTART;VALUE=DATE:20230812
URL;VALUE=URI:ohschonhell.at/?page_id=37977
SUMMARY:AFTERHOUR mit DJ CREAM & KRAUS KLANG
LOCATION:Black Market
END:VEVENT
END:VCALENDAR


