BEGIN:VCALENDAR
VERSION:2.0
PRODID:-//hacksw/handcal//NONSGML v1.0//EN
BEGIN:VEVENT
UID:17082
DTSTART;VALUE=DATE:20230817
URL;VALUE=URI:ohschonhell.at/?page_id=37991
SUMMARY:Rare Grooves Vienna
LOCATION:HEUER AM KARLSPLATZ
END:VEVENT
END:VCALENDAR


