BEGIN:VCALENDAR
VERSION:2.0
PRODID:-//hacksw/handcal//NONSGML v1.0//EN
BEGIN:VEVENT
UID:17098
DTSTART;VALUE=DATE:20230817
URL;VALUE=URI:ohschonhell.at/?page_id=38023
SUMMARY:Nachtaktiv
LOCATION:Der Ponyhof
END:VEVENT
END:VCALENDAR


