BEGIN:VCALENDAR
VERSION:2.0
PRODID:-//hacksw/handcal//NONSGML v1.0//EN
BEGIN:VEVENT
UID:17099
DTSTART;VALUE=DATE:20230810
URL;VALUE=URI:ohschonhell.at/?page_id=38025
SUMMARY:DONNERSTAGNACHT w/ Wiener Mischung
LOCATION:SASS
END:VEVENT
END:VCALENDAR


