BEGIN:VCALENDAR
VERSION:2.0
PRODID:-//hacksw/handcal//NONSGML v1.0//EN
BEGIN:VEVENT
UID:17112
DTSTART;VALUE=DATE:20230815
URL;VALUE=URI:ohschonhell.at/?page_id=38051
SUMMARY:Strandpartie II
LOCATION:PORTO POLLO
END:VEVENT
END:VCALENDAR


