BEGIN:VCALENDAR
VERSION:2.0
PRODID:-//hacksw/handcal//NONSGML v1.0//EN
BEGIN:VEVENT
UID:17115
DTSTART;VALUE=DATE:20230818
URL;VALUE=URI:ohschonhell.at/?page_id=38057
SUMMARY:MERKWÜRDIG / OPEN AIR / RAVE
LOCATION:PORTO POLLO
END:VEVENT
END:VCALENDAR


