BEGIN:VCALENDAR
VERSION:2.0
PRODID:-//hacksw/handcal//NONSGML v1.0//EN
BEGIN:VEVENT
UID:17118
DTSTART;VALUE=DATE:20230811
URL;VALUE=URI:ohschonhell.at/?page_id=38064
SUMMARY:AFTERHOUR mit CED 5h extended set
LOCATION:Black Market
END:VEVENT
END:VCALENDAR


