BEGIN:VCALENDAR
VERSION:2.0
PRODID:-//hacksw/handcal//NONSGML v1.0//EN
BEGIN:VEVENT
UID:17119
DTSTART;VALUE=DATE:20230815
URL;VALUE=URI:ohschonhell.at/?page_id=38066
SUMMARY:AFTERHOUR mit CED 5h extended set
LOCATION:Black Market
END:VEVENT
END:VCALENDAR


