BEGIN:VCALENDAR
VERSION:2.0
PRODID:-//hacksw/handcal//NONSGML v1.0//EN
BEGIN:VEVENT
UID:17120
DTSTART;VALUE=DATE:20230819
URL;VALUE=URI:ohschonhell.at/?page_id=38069
SUMMARY:AFTERHOUR mit DADAJACK & REE:RAW
LOCATION:Black Market
END:VEVENT
END:VCALENDAR


