BEGIN:VCALENDAR
VERSION:2.0
PRODID:-//hacksw/handcal//NONSGML v1.0//EN
BEGIN:VEVENT
UID:17124
DTSTART;VALUE=DATE:20230819
URL;VALUE=URI:ohschonhell.at/?page_id=38078
SUMMARY:WHIPLASH
LOCATION:Der Ponyhof
END:VEVENT
END:VCALENDAR


