BEGIN:VCALENDAR
VERSION:2.0
PRODID:-//hacksw/handcal//NONSGML v1.0//EN
BEGIN:VEVENT
UID:17136
DTSTART;VALUE=DATE:20230820
URL;VALUE=URI:ohschonhell.at/?page_id=38103
SUMMARY:AFTERHOUR mit KRAUS KLANG & STEFAN LÖFFLER
LOCATION:Black Market
END:VEVENT
END:VCALENDAR


