BEGIN:VCALENDAR
VERSION:2.0
PRODID:-//hacksw/handcal//NONSGML v1.0//EN
BEGIN:VEVENT
UID:17137
DTSTART;VALUE=DATE:20230826
URL;VALUE=URI:ohschonhell.at/?page_id=38106
SUMMARY:AFTERHOUR mit KRAAKEN & NIKILIST
LOCATION:Black Market
END:VEVENT
END:VCALENDAR


