BEGIN:VCALENDAR
VERSION:2.0
PRODID:-//hacksw/handcal//NONSGML v1.0//EN
BEGIN:VEVENT
UID:17138
DTSTART;VALUE=DATE:20230827
URL;VALUE=URI:ohschonhell.at/?page_id=38109
SUMMARY:AFTERHOUR mit ALTROY JEROME & REE:RAW
LOCATION:Black Market
END:VEVENT
END:VCALENDAR


