BEGIN:VCALENDAR
VERSION:2.0
PRODID:-//hacksw/handcal//NONSGML v1.0//EN
BEGIN:VEVENT
UID:17143
DTSTART;VALUE=DATE:20230908
URL;VALUE=URI:ohschonhell.at/?page_id=38122
SUMMARY:Acid Lambada w/ Børt
LOCATION:SASS
END:VEVENT
END:VCALENDAR


