BEGIN:VCALENDAR
VERSION:2.0
PRODID:-//hacksw/handcal//NONSGML v1.0//EN
BEGIN:VEVENT
UID:17152
DTSTART;VALUE=DATE:20230825
URL;VALUE=URI:ohschonhell.at/?page_id=38140
SUMMARY:Hot Pot
LOCATION:Kramladen
END:VEVENT
END:VCALENDAR


