BEGIN:VCALENDAR
VERSION:2.0
PRODID:-//hacksw/handcal//NONSGML v1.0//EN
BEGIN:VEVENT
UID:1716
DTSTART;VALUE=DATE:20140719
URL;VALUE=URI:ohschonhell.at/?page_id=4301
SUMMARY:ENDSTATION DRAUSSEN mit 35 GRAD
LOCATION:ENDSTATION HALTESTELLE 1er
END:VEVENT
END:VCALENDAR


