BEGIN:VCALENDAR
VERSION:2.0
PRODID:-//hacksw/handcal//NONSGML v1.0//EN
BEGIN:VEVENT
UID:17165
DTSTART;VALUE=DATE:20230825
URL;VALUE=URI:ohschonhell.at/?page_id=38166
SUMMARY:Club Pompadour - Friday Night Dynamite
LOCATION:SASS
END:VEVENT
END:VCALENDAR


