BEGIN:VCALENDAR
VERSION:2.0
PRODID:-//hacksw/handcal//NONSGML v1.0//EN
BEGIN:VEVENT
UID:17176
DTSTART;VALUE=DATE:20230902
URL;VALUE=URI:ohschonhell.at/?page_id=38188
SUMMARY:SUMMER FLOOR by Wiener Mischung | Open Air
LOCATION:PORTO POLLO
END:VEVENT
END:VCALENDAR


