BEGIN:VCALENDAR
VERSION:2.0
PRODID:-//hacksw/handcal//NONSGML v1.0//EN
BEGIN:VEVENT
UID:17178
DTSTART;VALUE=DATE:20230913
URL;VALUE=URI:ohschonhell.at/?page_id=38192
SUMMARY:WAVY WEDNESDAYS presented by ESCAPISM & friends
LOCATION:CAMERA CLUB
END:VEVENT
END:VCALENDAR


