BEGIN:VCALENDAR
VERSION:2.0
PRODID:-//hacksw/handcal//NONSGML v1.0//EN
BEGIN:VEVENT
UID:17184
DTSTART;VALUE=DATE:20230916
URL;VALUE=URI:ohschonhell.at/?page_id=38204
SUMMARY:Electric Magic Disco Bongo | Ponyhof
LOCATION:Der Ponyhof
END:VEVENT
END:VCALENDAR


