BEGIN:VCALENDAR
VERSION:2.0
PRODID:-//hacksw/handcal//NONSGML v1.0//EN
BEGIN:VEVENT
UID:17197
DTSTART;VALUE=DATE:20230913
URL;VALUE=URI:ohschonhell.at/?page_id=38231
SUMMARY:Cheval fatale
LOCATION:Der Ponyhof
END:VEVENT
END:VCALENDAR


