BEGIN:VCALENDAR
VERSION:2.0
PRODID:-//hacksw/handcal//NONSGML v1.0//EN
BEGIN:VEVENT
UID:17198
DTSTART;VALUE=DATE:20230906
URL;VALUE=URI:ohschonhell.at/?page_id=38233
SUMMARY:CHEVAL FATALE
LOCATION:Der Ponyhof
END:VEVENT
END:VCALENDAR


