BEGIN:VCALENDAR
VERSION:2.0
PRODID:-//hacksw/handcal//NONSGML v1.0//EN
BEGIN:VEVENT
UID:17201
DTSTART;VALUE=DATE:20230905
URL;VALUE=URI:ohschonhell.at/?page_id=38239
SUMMARY:Das Techno Cafe
LOCATION:VOLKSGARTEN PAVILLON
END:VEVENT
END:VCALENDAR


