BEGIN:VCALENDAR
VERSION:2.0
PRODID:-//hacksw/handcal//NONSGML v1.0//EN
BEGIN:VEVENT
UID:17208
DTSTART;VALUE=DATE:20230908
URL;VALUE=URI:ohschonhell.at/?page_id=38254
SUMMARY:Drumworks presents Yatuza (RE:SET / 31 Recs) & Monyu (Ekou Recs) @ Black Market
LOCATION:Black Market
END:VEVENT
END:VCALENDAR


