BEGIN:VCALENDAR
VERSION:2.0
PRODID:-//hacksw/handcal//NONSGML v1.0//EN
BEGIN:VEVENT
UID:17210
DTSTART;VALUE=DATE:20230910
URL;VALUE=URI:ohschonhell.at/?page_id=38260
SUMMARY:AFTERHOUR mit CED 5h extended set
LOCATION:Black Market
END:VEVENT
END:VCALENDAR


