BEGIN:VCALENDAR
VERSION:2.0
PRODID:-//hacksw/handcal//NONSGML v1.0//EN
BEGIN:VEVENT
UID:17220
DTSTART;VALUE=DATE:20231013
URL;VALUE=URI:ohschonhell.at/?page_id=38281
SUMMARY:CHROM:E pres. Reinier Zonneveld | Kiki Solvej
LOCATION:Praterdome
END:VEVENT
END:VCALENDAR


