BEGIN:VCALENDAR
VERSION:2.0
PRODID:-//hacksw/handcal//NONSGML v1.0//EN
BEGIN:VEVENT
UID:17247
DTSTART;VALUE=DATE:20230916
URL;VALUE=URI:ohschonhell.at/?page_id=38336
SUMMARY:AFTERHOUR mit KRAAKEN & KRAUSKLANG
LOCATION:Black Market
END:VEVENT
END:VCALENDAR


