BEGIN:VCALENDAR
VERSION:2.0
PRODID:-//hacksw/handcal//NONSGML v1.0//EN
BEGIN:VEVENT
UID:17249
DTSTART;VALUE=DATE:20230923
URL;VALUE=URI:ohschonhell.at/?page_id=38342
SUMMARY:AFTERHOUR mit DONNERKANZEL
LOCATION:Black Market
END:VEVENT
END:VCALENDAR


