BEGIN:VCALENDAR
VERSION:2.0
PRODID:-//hacksw/handcal//NONSGML v1.0//EN
BEGIN:VEVENT
UID:17278
DTSTART;VALUE=DATE:20231031
URL;VALUE=URI:ohschonhell.at/?page_id=38406
SUMMARY:Hi Tech Minimal
LOCATION:CAFE DERWISCH
END:VEVENT
END:VCALENDAR


