BEGIN:VCALENDAR
VERSION:2.0
PRODID:-//hacksw/handcal//NONSGML v1.0//EN
BEGIN:VEVENT
UID:17280
DTSTART;VALUE=DATE:20231007
URL;VALUE=URI:ohschonhell.at/?page_id=38412
SUMMARY:LÖWENZAHN X KRAMLADEN
LOCATION:Kramladen
END:VEVENT
END:VCALENDAR


