BEGIN:VCALENDAR
VERSION:2.0
PRODID:-//hacksw/handcal//NONSGML v1.0//EN
BEGIN:VEVENT
UID:17284
DTSTART;VALUE=DATE:20231007
URL;VALUE=URI:ohschonhell.at/?page_id=38421
SUMMARY:AFTERHOUR mit CARL BERGÉ (Berlin) - 5h extended set
LOCATION:Black Market
END:VEVENT
END:VCALENDAR


