BEGIN:VCALENDAR
VERSION:2.0
PRODID:-//hacksw/handcal//NONSGML v1.0//EN
BEGIN:VEVENT
UID:17296
DTSTART;VALUE=DATE:20231007
URL;VALUE=URI:ohschonhell.at/?page_id=38446
SUMMARY:BLVZE x Dr. Schock x Sarah Allen x Skofi
LOCATION:Der Ponyhof
END:VEVENT
END:VCALENDAR


