BEGIN:VCALENDAR
VERSION:2.0
PRODID:-//hacksw/handcal//NONSGML v1.0//EN
BEGIN:VEVENT
UID:17308
DTSTART;VALUE=DATE:20230928
URL;VALUE=URI:ohschonhell.at/?page_id=38470
SUMMARY:DONNERSTAG NACHT x GARTEN VON EBEN 
LOCATION:SASS
END:VEVENT
END:VCALENDAR


