BEGIN:VCALENDAR
VERSION:2.0
PRODID:-//hacksw/handcal//NONSGML v1.0//EN
BEGIN:VEVENT
UID:17324
DTSTART;VALUE=DATE:20231014
URL;VALUE=URI:ohschonhell.at/?page_id=38502
SUMMARY:Garten von Eben: Kramophon №3
LOCATION:Kramladen
END:VEVENT
END:VCALENDAR


