BEGIN:VCALENDAR
VERSION:2.0
PRODID:-//hacksw/handcal//NONSGML v1.0//EN
BEGIN:VEVENT
UID:1733
DTSTART;VALUE=DATE:20140809
URL;VALUE=URI:ohschonhell.at/?page_id=4325
SUMMARY:OUTLINE. [09.08.2014] - OPENING PARTY powered by ELIT
LOCATION:SASS
END:VEVENT
END:VCALENDAR


