BEGIN:VCALENDAR
VERSION:2.0
PRODID:-//hacksw/handcal//NONSGML v1.0//EN
BEGIN:VEVENT
UID:17338
DTSTART;VALUE=DATE:20231012
URL;VALUE=URI:ohschonhell.at/?page_id=38531
SUMMARY:RAVELADEN #31
LOCATION:Kramladen
END:VEVENT
END:VCALENDAR


