BEGIN:VCALENDAR
VERSION:2.0
PRODID:-//hacksw/handcal//NONSGML v1.0//EN
BEGIN:VEVENT
UID:17351
DTSTART;VALUE=DATE:20231029
URL;VALUE=URI:ohschonhell.at/?page_id=38557
SUMMARY:SUPERMARKT
LOCATION:TRANSPORTER
END:VEVENT
END:VCALENDAR


