BEGIN:VCALENDAR
VERSION:2.0
PRODID:-//hacksw/handcal//NONSGML v1.0//EN
BEGIN:VEVENT
UID:17389
DTSTART;VALUE=DATE:20231021
URL;VALUE=URI:ohschonhell.at/?page_id=38638
SUMMARY:AFTERHOUR mit KRETA & MELA HATWIND
LOCATION:Black Market
END:VEVENT
END:VCALENDAR


