BEGIN:VCALENDAR
VERSION:2.0
PRODID:-//hacksw/handcal//NONSGML v1.0//EN
BEGIN:VEVENT
UID:17417
DTSTART;VALUE=DATE:20231101
URL;VALUE=URI:ohschonhell.at/?page_id=38701
SUMMARY:HALLOWEEN EXTENDED AFTERHOUR mit JOHANNES HAIDIN b2b DISCOMASTERCONSOLE b2b CED
LOCATION:Black Market
END:VEVENT
END:VCALENDAR


