BEGIN:VCALENDAR
VERSION:2.0
PRODID:-//hacksw/handcal//NONSGML v1.0//EN
BEGIN:VEVENT
UID:17421
DTSTART;VALUE=DATE:20231104
URL;VALUE=URI:ohschonhell.at/?page_id=38710
SUMMARY:AFTERHOUR mit BIMOL LIVE (Colombia) & MADWIN
LOCATION:Black Market
END:VEVENT
END:VCALENDAR


